BEGIN:VCALENDAR
VERSION:2.0
METHOD:PUBLISH
PRODID:-//Accessible Web Design//My Calendar//http://www.joedolson.com//v//EN';
BEGIN:VEVENT
UID:76-58
LOCATION:
SUMMARY:Hörverstehen Spanisch
DTSTAMP:20231213
ORGANIZER;CN=lena.semmler:MAILTO:lena.semmler@hws-lahr.de
DTSTART:20231213
DTEND:20231214
CATEGORIES:Prüfung
URL;VALUE=URI:
DESCRIPTION;ENCODING=QUOTED-PRINTABLE:Die SGGG13 haben heute ihre Hörverstehenprüfung in Spanisch - diese ist Teil des Abiturs! 
X-FUNAMBOL-ALLDAY: 1
X-MICROSOFT-CDO-ALLDAYEVENT: TRUE

END:VEVENT
END:VCALENDAR