BEGIN:VCALENDAR
VERSION:2.0
METHOD:PUBLISH
PRODID:-//Accessible Web Design//My Calendar//http://www.joedolson.com//v//EN';
BEGIN:VEVENT
UID:141-119
LOCATION:
SUMMARY:BKP - Einzelberatungen Herr Carrière (Arbeitsagentur)
DTSTAMP:20241001
ORGANIZER;CN=lena.semmler:MAILTO:lena.semmler@hws-lahr.de
DTSTART:20241001
DTEND:20241002
CATEGORIES:Ferien
URL;VALUE=URI:
DESCRIPTION;ENCODING=QUOTED-PRINTABLE: 
X-FUNAMBOL-ALLDAY: 1
X-MICROSOFT-CDO-ALLDAYEVENT: TRUE

END:VEVENT
END:VCALENDAR