BEGIN:VCALENDAR
VERSION:2.0
METHOD:PUBLISH
PRODID:-//Accessible Web Design//My Calendar//http://www.joedolson.com//v//EN';
BEGIN:VEVENT
UID:107-85
LOCATION:
SUMMARY:BEJ und VAB3 Kommunikationsprüfung
DTSTAMP:20240506
ORGANIZER;CN=lena.semmler:MAILTO:lena.semmler@hws-lahr.de
DTSTART:20240506
DTEND:20240507
CATEGORIES:Prüfung
URL;VALUE=URI:
DESCRIPTION;ENCODING=QUOTED-PRINTABLE: 
X-FUNAMBOL-ALLDAY: 1
X-MICROSOFT-CDO-ALLDAYEVENT: TRUE

END:VEVENT
END:VCALENDAR