BEGIN:VCALENDAR
VERSION:2.0
METHOD:PUBLISH
PRODID:-//Accessible Web Design//My Calendar//http://www.joedolson.com//v//EN';
BEGIN:VEVENT
UID:83-62
LOCATION:
SUMMARY:Letzter Schultag vor der Weihnachtsferien
DTSTAMP:20231221
ORGANIZER;CN=lena.semmler:MAILTO:lena.semmler@hws-lahr.de
DTSTART:20231221
DTEND:20231222
CATEGORIES:General
URL;VALUE=URI:
DESCRIPTION;ENCODING=QUOTED-PRINTABLE:Heute ist in den ersten beiden Stunden Unterricht nach Stundenplan. In der 3. und 4. Stunde ist dann eine Klassenlehrer:innen-Stunde geplant. Und dann heißt es: Frohe Festtage für alle Schüler:innen, Lehrer:innen und alle anderen Mitarbeitenden der Schule! 
X-FUNAMBOL-ALLDAY: 1
X-MICROSOFT-CDO-ALLDAYEVENT: TRUE

END:VEVENT
END:VCALENDAR