BEGIN:VCALENDAR
VERSION:2.0
METHOD:PUBLISH
PRODID:-//Accessible Web Design//My Calendar//http://www.joedolson.com//v//EN';
BEGIN:VEVENT
UID:74-56
LOCATION:
SUMMARY:Sprechabend für Erziehungsberechtigte
DTSTAMP:20231207T170000
ORGANIZER;CN=lena.semmler:MAILTO:lena.semmler@hws-lahr.de
DTSTART:20231207T170000
DTEND:20231207T200000
CATEGORIES:Ferien
URL;VALUE=URI:
DESCRIPTION;ENCODING=QUOTED-PRINTABLE:Die Schüler:innen können ihre Erziehungsberechtigte ab dem 20.11. in die Listen der Lehrkräfte eintragen. 
END:VEVENT
END:VCALENDAR