BEGIN:VCALENDAR
VERSION:2.0
METHOD:PUBLISH
PRODID:-//Accessible Web Design//My Calendar//http://www.joedolson.com//v//EN';
BEGIN:VEVENT
UID:139-117
LOCATION:
SUMMARY:Informationsveranstaltung zur Berufsaufbauschule
DTSTAMP:20240612T143000
ORGANIZER;CN=Stefanie Wickenbrock:MAILTO:stefanie.wickenbrock@mf-schule.de
DTSTART:20240612T143000
DTEND:20240612T153000
CATEGORIES:General
URL;VALUE=URI:
DESCRIPTION;ENCODING=QUOTED-PRINTABLE: 
END:VEVENT
END:VCALENDAR